BEGIN:VCALENDAR
VERSION:2.0
PRODID:-//Hét podium voor musici van elk niveau! - ECPv6.15.20//NONSGML v1.0//EN
CALSCALE:GREGORIAN
METHOD:PUBLISH
X-ORIGINAL-URL:https://www.beginnersorkest.nl
X-WR-CALDESC:Evenementen voor Hét podium voor musici van elk niveau!
REFRESH-INTERVAL;VALUE=DURATION:PT1H
X-Robots-Tag:noindex
X-PUBLISHED-TTL:PT1H
BEGIN:VTIMEZONE
TZID:UTC
BEGIN:STANDARD
TZOFFSETFROM:+0000
TZOFFSETTO:+0000
TZNAME:UTC
DTSTART:20220101T000000
END:STANDARD
END:VTIMEZONE
BEGIN:VEVENT
DTSTART;TZID=UTC:20230611T100000
DTEND;TZID=UTC:20230611T170000
DTSTAMP:20260421T153610
CREATED:20230315T101820Z
LAST-MODIFIED:20230315T102428Z
UID:7509-1686477600-1686502800@www.beginnersorkest.nl
SUMMARY:Prismare open repetitie
DESCRIPTION:Tijdstip onder voorbehoud \n\n\n\nOnderdeel van de Week van de Amateurkunst in Enschede. Open repetitie in Prismare voor geïnteresseerden
URL:https://www.beginnersorkest.nl/evenement/prismare-open-repetitie/
LOCATION:WAK Enschede\, Enschede\, Netherlands
END:VEVENT
BEGIN:VEVENT
DTSTART;TZID=UTC:20230611T110000
DTEND;TZID=UTC:20230611T173000
DTSTAMP:20260421T153610
CREATED:20230315T102940Z
LAST-MODIFIED:20230315T102941Z
UID:7517-1686481200-1686504600@www.beginnersorkest.nl
SUMMARY:Kunst in het Volkspark
DESCRIPTION:Exact tijdstip nog niet bekend \n\n\n\nOnderdeel van de Week van de Amateurkunst in Enschede \n\n\n\nVoor orkestleden van Enschede aangevuld met orkestleden uit de overige steden
URL:https://www.beginnersorkest.nl/evenement/kunst-in-het-volkspark/
LOCATION:WAK Enschede\, Enschede\, Netherlands
END:VEVENT
END:VCALENDAR