BEGIN:VCALENDAR
VERSION:2.0
PRODID:-//Hét podium voor musici van elk niveau! - ECPv6.15.20//NONSGML v1.0//EN
CALSCALE:GREGORIAN
METHOD:PUBLISH
X-ORIGINAL-URL:https://www.beginnersorkest.nl
X-WR-CALDESC:Evenementen voor Hét podium voor musici van elk niveau!
REFRESH-INTERVAL;VALUE=DURATION:PT1H
X-Robots-Tag:noindex
X-PUBLISHED-TTL:PT1H
BEGIN:VTIMEZONE
TZID:UTC
BEGIN:STANDARD
TZOFFSETFROM:+0000
TZOFFSETTO:+0000
TZNAME:UTC
DTSTART:20240101T000000
END:STANDARD
END:VTIMEZONE
BEGIN:VTIMEZONE
TZID:Europe/Amsterdam
BEGIN:DAYLIGHT
TZOFFSETFROM:+0100
TZOFFSETTO:+0200
TZNAME:CEST
DTSTART:20240331T010000
END:DAYLIGHT
BEGIN:STANDARD
TZOFFSETFROM:+0200
TZOFFSETTO:+0100
TZNAME:CET
DTSTART:20241027T010000
END:STANDARD
BEGIN:DAYLIGHT
TZOFFSETFROM:+0100
TZOFFSETTO:+0200
TZNAME:CEST
DTSTART:20250330T010000
END:DAYLIGHT
BEGIN:STANDARD
TZOFFSETFROM:+0200
TZOFFSETTO:+0100
TZNAME:CET
DTSTART:20251026T010000
END:STANDARD
BEGIN:DAYLIGHT
TZOFFSETFROM:+0100
TZOFFSETTO:+0200
TZNAME:CEST
DTSTART:20260329T010000
END:DAYLIGHT
BEGIN:STANDARD
TZOFFSETFROM:+0200
TZOFFSETTO:+0100
TZNAME:CET
DTSTART:20261025T010000
END:STANDARD
END:VTIMEZONE
BEGIN:VEVENT
DTSTART;TZID=UTC:20250109T193000
DTEND;TZID=UTC:20250109T213000
DTSTAMP:20260420T091158
CREATED:20230905T095137Z
LAST-MODIFIED:20241210T140835Z
UID:9176-1736451000-1736458200@www.beginnersorkest.nl
SUMMARY:Repetitie Almere
DESCRIPTION:Neem alle bladmuziek van de website mee én je eigen muziekstandaard \n\n\n\nGratis parkeren voor de deur
URL:https://www.beginnersorkest.nl/evenement/repetitie-almere-16/
LOCATION:Buurtcentrum Parkwijk\, Haagbeukweg 42\, Almere\, 1325 CP\, Netherlands
CATEGORIES:Definitief
END:VEVENT
BEGIN:VEVENT
DTSTART;TZID=UTC:20250113T193000
DTEND;TZID=UTC:20250113T213000
DTSTAMP:20260420T091158
CREATED:20230903T121321Z
LAST-MODIFIED:20241210T142022Z
UID:9087-1736796600-1736803800@www.beginnersorkest.nl
SUMMARY:Repetitie Enschede
DESCRIPTION:Neem alle bladmuziek van de website mee én je eigen muziekstandaard \n\n\n\nGratis parkeren voor de deur
URL:https://www.beginnersorkest.nl/evenement/repetitie-enschede-copy-4/
LOCATION:Montessorischool De Wielerbaan\, Batshoek 5 (ingang Disselhoek)\, Enschede\, 7546 LC\, Netherlands
CATEGORIES:Definitief
END:VEVENT
BEGIN:VEVENT
DTSTART;TZID=Europe/Amsterdam:20250116T193000
DTEND;TZID=Europe/Amsterdam:20250116T213000
DTSTAMP:20260420T091158
CREATED:20230904T094126Z
LAST-MODIFIED:20241210T130844Z
UID:9118-1737055800-1737063000@www.beginnersorkest.nl
SUMMARY:Repetitie Zutphen
DESCRIPTION:Neem alle bladmuziek van de website mee én je eigen muziekstandaard \n\n\n\nGratis parkeren Gravenhof en Groenmarkt
URL:https://www.beginnersorkest.nl/evenement/repetitie-zutphen-18/
LOCATION:Atelier\, Kolenstraat 4\, Zutphen\, 7201HR\, Nederland
CATEGORIES:Definitief,Repetitie
END:VEVENT
BEGIN:VEVENT
DTSTART;TZID=UTC:20250116T193000
DTEND;TZID=UTC:20250116T213000
DTSTAMP:20260420T091158
CREATED:20230904T094236Z
LAST-MODIFIED:20241210T133137Z
UID:9120-1737055800-1737063000@www.beginnersorkest.nl
SUMMARY:Repetitie Amsterdam
DESCRIPTION:Neem alle bladmuziek van de website mee én je eigen muziekstandaard \n\n\n\nGratis parkeren voor de deur vanaf 19.00 uur
URL:https://www.beginnersorkest.nl/evenement/repetitie-amsterdam-18/
LOCATION:Verpleeghuis De Vreugdehof\, De Klencke 111\, Amsterdam
CATEGORIES:Definitief
END:VEVENT
BEGIN:VEVENT
DTSTART;TZID=UTC:20250122T193000
DTEND;TZID=UTC:20250122T213000
DTSTAMP:20260420T091158
CREATED:20230905T101739Z
LAST-MODIFIED:20241210T143153Z
UID:9206-1737574200-1737581400@www.beginnersorkest.nl
SUMMARY:Repetitie Utrecht
DESCRIPTION:Neem alle bladmuziek van de website mee én je eigen muziekstandaard
URL:https://www.beginnersorkest.nl/evenement/repetitie-utrecht-18/
LOCATION:Muziekhuis Utrecht\, Loevenhoutsedijk 301\, Utrecht
CATEGORIES:Definitief
END:VEVENT
BEGIN:VEVENT
DTSTART;TZID=UTC:20250123T193000
DTEND;TZID=UTC:20250123T213000
DTSTAMP:20260420T091158
CREATED:20230905T095339Z
LAST-MODIFIED:20241210T140928Z
UID:9178-1737660600-1737667800@www.beginnersorkest.nl
SUMMARY:Repetitie Almere
DESCRIPTION:Neem alle bladmuziek van de website mee én je eigen muziekstandaard \n\n\n\nGratis parkeren voor de deur
URL:https://www.beginnersorkest.nl/evenement/repetitie-almere-17/
LOCATION:Buurtcentrum Parkwijk\, Haagbeukweg 42\, Almere\, 1325 CP\, Netherlands
CATEGORIES:Definitief
END:VEVENT
BEGIN:VEVENT
DTSTART;TZID=UTC:20250127T193000
DTEND;TZID=UTC:20250127T213000
DTSTAMP:20260420T091158
CREATED:20230903T121516Z
LAST-MODIFIED:20241210T142118Z
UID:9090-1738006200-1738013400@www.beginnersorkest.nl
SUMMARY:Repetitie Enschede
DESCRIPTION:Neem alle bladmuziek van de website mee én je eigen muziekstandaard \n\n\n\nGratis parkeren voor de deur
URL:https://www.beginnersorkest.nl/evenement/repetitie-enschede-17/
LOCATION:Montessorischool De Wielerbaan\, Batshoek 5 (ingang Disselhoek)\, Enschede\, 7546 LC\, Netherlands
CATEGORIES:Definitief
END:VEVENT
BEGIN:VEVENT
DTSTART;TZID=UTC:20250130T193000
DTEND;TZID=UTC:20250130T213000
DTSTAMP:20260420T091158
CREATED:20230603T100321Z
LAST-MODIFIED:20241210T133308Z
UID:8616-1738265400-1738272600@www.beginnersorkest.nl
SUMMARY:Repetitie Amsterdam
DESCRIPTION:Neem alle bladmuziek van de website mee én je eigen muziekstandaard \n\n\n\nGratis parkeren voor de deur vanaf 19.00 uur
URL:https://www.beginnersorkest.nl/evenement/repetitie-amsterdam-17/
LOCATION:Verpleeghuis Vreugdehof\, De Klencke 111\, Amsterdam
CATEGORIES:Definitief
END:VEVENT
BEGIN:VEVENT
DTSTART;TZID=Europe/Amsterdam:20250130T193000
DTEND;TZID=Europe/Amsterdam:20250130T213000
DTSTAMP:20260420T091158
CREATED:20230904T094359Z
LAST-MODIFIED:20241210T130844Z
UID:9122-1738265400-1738272600@www.beginnersorkest.nl
SUMMARY:Repetitie Zutphen
DESCRIPTION:Neem alle bladmuziek van de website mee én je eigen muziekstandaard \n\n\n\nGratis parkeren Gravenhof en Groenmarkt
URL:https://www.beginnersorkest.nl/evenement/repetitie-zutphen-19/
LOCATION:Atelier\, Kolenstraat 4\, Zutphen\, 7201HR\, Nederland
CATEGORIES:Definitief,Repetitie
END:VEVENT
END:VCALENDAR